BEGIN:VCALENDAR
VERSION:2.0
PRODID:spatie/icalendar-generator
DESCRIPTION:Events from South Peninsula Hospital
X-WR-CALDESC:Events from South Peninsula Hospital
REFRESH-INTERVAL;VALUE=DURATION:PT1440M
X-PUBLISHED-TTL:PT1440M
BEGIN:VTIMEZONE
TZID:America/Anchorage
BEGIN:DAYLIGHT
DTSTART:20160313T020000Z
TZOFFSETFROM:-0900
TZOFFSETTO:-0800
END:DAYLIGHT
BEGIN:STANDARD
DTSTART:20161106T020000Z
TZOFFSETFROM:-0800
TZOFFSETTO:-0900
END:STANDARD
BEGIN:DAYLIGHT
DTSTART:20170312T020000Z
TZOFFSETFROM:-0900
TZOFFSETTO:-0800
END:DAYLIGHT
END:VTIMEZONE
BEGIN:VTIMEZONE
TZID:UTC
BEGIN:STANDARD
DTSTART:20250726T083906Z
TZOFFSETFROM:+0000
TZOFFSETTO:+0000
END:STANDARD
END:VTIMEZONE
BEGIN:VEVENT
UID:1271-128
DTSTAMP:20260422T083906Z
SUMMARY:Day of Mindfulness: Supporting a Mindful Self &amp;amp\; Community
LOCATION:
ORGANIZER;CN=Tundra Technologies:MAILTO:tom@tundratech.net
DTSTART;TZID=America/Anchorage:20160924T100000
DTEND;TZID=America/Anchorage:20160924T160000
X-ALT-DESC;FMTTYPE=TEXT/HTML:Day of Mindfulness: Supporting a Mindful Self 
 &amp;amp\; Community - Enjoy a day of mindful activities: * Walking\, *Moveme
 nt\, *\, Listening\, *Meditation\, *Deep Relaxation. NO PRIOR EXPERIENCE N
 ECESSARY! SLIDING SCALE $20 - $40 PER PERSON. Scholarships available. ~Ple
 ase pack a lunch~ A Week of Mindfulness Community Events in Homer - Flyer
  Call 235-0285 for more information.
CATEGORIES:Community Event
URL;VALUE=URI:https://www.sphosp.org/mc-events/day-of-mindfulness-supportin
 g-a-mindful-self-community/
METHOD:PUBLISH
END:VEVENT
END:VCALENDAR