BEGIN:VCALENDAR
VERSION:2.0
PRODID:spatie/icalendar-generator
DESCRIPTION:Events from South Peninsula Hospital
X-WR-CALDESC:Events from South Peninsula Hospital
REFRESH-INTERVAL;VALUE=DURATION:PT1440M
X-PUBLISHED-TTL:PT1440M
BEGIN:VTIMEZONE
TZID:America/Anchorage
BEGIN:DAYLIGHT
DTSTART:20160313T020000Z
TZOFFSETFROM:-0900
TZOFFSETTO:-0800
END:DAYLIGHT
BEGIN:STANDARD
DTSTART:20161106T020000Z
TZOFFSETFROM:-0800
TZOFFSETTO:-0900
END:STANDARD
BEGIN:DAYLIGHT
DTSTART:20170312T020000Z
TZOFFSETFROM:-0900
TZOFFSETTO:-0800
END:DAYLIGHT
END:VTIMEZONE
BEGIN:VTIMEZONE
TZID:UTC
BEGIN:STANDARD
DTSTART:20250724T005703Z
TZOFFSETFROM:+0000
TZOFFSETTO:+0000
END:STANDARD
END:VTIMEZONE
BEGIN:VEVENT
UID:1273-130
DTSTAMP:20260420T005703Z
SUMMARY:Board of Directors Monthly Meeting
LOCATION:South Peninsula Hospital Conference Rooms 1 &amp; 2 4300 Bartlett Stre
 et  Homer
ORGANIZER;CN=Derotha Ferraro:MAILTO:dbf@sphosp.org
DTSTART;TZID=America/Anchorage:20161017T190000
DTEND;TZID=America/Anchorage:20161017T210000
X-ALT-DESC;FMTTYPE=TEXT/HTML:<p>The monthly meeting of the South Peninsula 
 Hospital\, Inc. Board of Directors is open to the public.  Public comment 
 is welcome at the beginning and end of each meeting</p>\n
CATEGORIES:Community Event
URL;VALUE=URI:https://www.sphosp.org/mc-events/board-of-directors-monthly-m
 eeting-2/
METHOD:PUBLISH
END:VEVENT
END:VCALENDAR