BEGIN:VCALENDAR
VERSION:2.0
PRODID:spatie/icalendar-generator
DESCRIPTION:Events from South Peninsula Hospital
X-WR-CALDESC:Events from South Peninsula Hospital
REFRESH-INTERVAL;VALUE=DURATION:PT1440M
X-PUBLISHED-TTL:PT1440M
BEGIN:VTIMEZONE
TZID:America/Anchorage
BEGIN:DAYLIGHT
DTSTART:20160313T020000Z
TZOFFSETFROM:-0900
TZOFFSETTO:-0800
END:DAYLIGHT
BEGIN:STANDARD
DTSTART:20161106T020000Z
TZOFFSETFROM:-0800
TZOFFSETTO:-0900
END:STANDARD
BEGIN:DAYLIGHT
DTSTART:20170312T020000Z
TZOFFSETFROM:-0900
TZOFFSETTO:-0800
END:DAYLIGHT
END:VTIMEZONE
BEGIN:VTIMEZONE
TZID:UTC
BEGIN:STANDARD
DTSTART:20250723T230941Z
TZOFFSETFROM:+0000
TZOFFSETTO:+0000
END:STANDARD
END:VTIMEZONE
BEGIN:VEVENT
UID:1274-131
DTSTAMP:20260419T230941Z
SUMMARY:Community Emergency Response Team (CERT) Training
LOCATION:
ORGANIZER;CN=Tundra Technologies:MAILTO:tom@tundratech.net
DTSTART;TZID=America/Anchorage:20161101T180000
DTEND;TZID=America/Anchorage:20161101T210000
X-ALT-DESC;FMTTYPE=TEXT/HTML:The Kenai Peninsula Borough\, Office of Emerge
 ncy Management is pleased to announce that the next Community Emergency Re
 sponse Team (CERT) team training will be held beginning Tuesday November 1
  through November 12 in Homer.  This course is designed to prepare reside
 nts that do not have prior emergency response background on basic skills t
 o keep themselves\,&amp;hellip\;
CATEGORIES:Community Event
URL;VALUE=URI:https://www.sphosp.org/mc-events/community-emergency-response
 -team-cert-training/
METHOD:PUBLISH
END:VEVENT
END:VCALENDAR