BEGIN:VCALENDAR
VERSION:2.0
PRODID:spatie/icalendar-generator
DESCRIPTION:Events from South Peninsula Hospital
X-WR-CALDESC:Events from South Peninsula Hospital
REFRESH-INTERVAL;VALUE=DURATION:PT1440M
X-PUBLISHED-TTL:PT1440M
BEGIN:VTIMEZONE
TZID:America/Anchorage
BEGIN:DAYLIGHT
DTSTART:20160313T020000Z
TZOFFSETFROM:-0900
TZOFFSETTO:-0800
END:DAYLIGHT
BEGIN:STANDARD
DTSTART:20161106T020000Z
TZOFFSETFROM:-0800
TZOFFSETTO:-0900
END:STANDARD
BEGIN:DAYLIGHT
DTSTART:20170312T020000Z
TZOFFSETFROM:-0900
TZOFFSETTO:-0800
END:DAYLIGHT
END:VTIMEZONE
BEGIN:VTIMEZONE
TZID:UTC
BEGIN:STANDARD
DTSTART:20250723T161111Z
TZOFFSETFROM:+0000
TZOFFSETTO:+0000
END:STANDARD
END:VTIMEZONE
BEGIN:VEVENT
UID:1283-138
DTSTAMP:20260419T161111Z
SUMMARY:Know Your Numbers!  Dr. Ross Tanner
LOCATION:Kachemak Bay Campus - Room 202
ORGANIZER;CN=Tundra Technologies:MAILTO:tom@tundratech.net
DTSTART;TZID=America/Anchorage:20161117T183000
DTEND;TZID=America/Anchorage:20161117T203000
X-ALT-DESC;FMTTYPE=TEXT/HTML:Know Your Numbers!  Dr. Ross Tanner\, Founder
  of the Diabetes and Lipid Clinic of Alaska\, will present on understandin
 g blood test results on November 17 @ Kenai Peninsula College @ 6:30pm. Fr
 ee and snacks provided.
CATEGORIES:Community Event
URL;VALUE=URI:https://www.sphosp.org/mc-events/know-your-numbers-dr-ross-ta
 nner/
METHOD:PUBLISH
END:VEVENT
END:VCALENDAR