BEGIN:VCALENDAR
VERSION:2.0
PRODID:spatie/icalendar-generator
DESCRIPTION:Events from South Peninsula Hospital
X-WR-CALDESC:Events from South Peninsula Hospital
REFRESH-INTERVAL;VALUE=DURATION:PT1440M
X-PUBLISHED-TTL:PT1440M
BEGIN:VTIMEZONE
TZID:America/Anchorage
BEGIN:STANDARD
DTSTART:20161106T020000Z
TZOFFSETFROM:-0800
TZOFFSETTO:-0900
END:STANDARD
BEGIN:DAYLIGHT
DTSTART:20170312T020000Z
TZOFFSETFROM:-0900
TZOFFSETTO:-0800
END:DAYLIGHT
END:VTIMEZONE
BEGIN:VTIMEZONE
TZID:UTC
BEGIN:STANDARD
DTSTART:20250723T154039Z
TZOFFSETFROM:+0000
TZOFFSETTO:+0000
END:STANDARD
END:VTIMEZONE
BEGIN:VEVENT
UID:1301-147
DTSTAMP:20260419T154039Z
SUMMARY:Opioid Overdose Response ~ Free Training
LOCATION:
ORGANIZER;CN=Tundra Technologies:MAILTO:tom@tundratech.net
DTSTART;TZID=America/Anchorage:20170420T173000
DTEND;TZID=America/Anchorage:20170420T183000
X-ALT-DESC;FMTTYPE=TEXT/HTML:Presented by: Dr. Sarah Spencer   - Learn ho
 w to RECOGNIZE &amp;amp\; RESPOND to an opioid overdose. Leave with a FREE Nar
 can (naloxone) Kit! Naloxone funding provided by State of Alaska Project H
 ope. Please call to register: 235-0258
CATEGORIES:Community Event
URL;VALUE=URI:https://www.sphosp.org/mc-events/opioid-overdose-response-fre
 e-training/
METHOD:PUBLISH
END:VEVENT
END:VCALENDAR