BEGIN:VCALENDAR
VERSION:2.0
PRODID:spatie/icalendar-generator
DESCRIPTION:Events from South Peninsula Hospital
X-WR-CALDESC:Events from South Peninsula Hospital
REFRESH-INTERVAL;VALUE=DURATION:PT1440M
X-PUBLISHED-TTL:PT1440M
BEGIN:VTIMEZONE
TZID:America/Anchorage
BEGIN:STANDARD
DTSTART:20161106T020000Z
TZOFFSETFROM:-0800
TZOFFSETTO:-0900
END:STANDARD
BEGIN:DAYLIGHT
DTSTART:20170312T020000Z
TZOFFSETFROM:-0900
TZOFFSETTO:-0800
END:DAYLIGHT
BEGIN:STANDARD
DTSTART:20171105T020000Z
TZOFFSETFROM:-0800
TZOFFSETTO:-0900
END:STANDARD
END:VTIMEZONE
BEGIN:VTIMEZONE
TZID:UTC
BEGIN:STANDARD
DTSTART:20250723T141321Z
TZOFFSETFROM:+0000
TZOFFSETTO:+0000
END:STANDARD
END:VTIMEZONE
BEGIN:VEVENT
UID:1302-148
DTSTAMP:20260419T141321Z
SUMMARY:A Day of Mindfulness
LOCATION:
ORGANIZER;CN=Tundra Technologies:MAILTO:tom@tundratech.net
DTSTART;TZID=America/Anchorage:20170513T100000
DTEND;TZID=America/Anchorage:20170513T160000
X-ALT-DESC;FMTTYPE=TEXT/HTML:<p>Mindfulness is the quality of being aware o
 f what is happening in the present moment\, without judgment. See for your
 self its beneficial\, healing impact on physical\, emotional and mental we
 ll-being. Join us to learn how to live in the present moment while rewirin
 g your brain for happiness and health. Together we will practice the mindf
 ulness strategies that you can incorporate into your life to manage stress
  and enhancing well-being. No prior experience necessary!</p>\n
CATEGORIES:Community Event
URL;VALUE=URI:https://www.sphosp.org/mc-events/a-day-of-mindfulness/
METHOD:PUBLISH
END:VEVENT
END:VCALENDAR