BEGIN:VCALENDAR
VERSION:2.0
PRODID:spatie/icalendar-generator
DESCRIPTION:Events from South Peninsula Hospital
X-WR-CALDESC:Events from South Peninsula Hospital
REFRESH-INTERVAL;VALUE=DURATION:PT1440M
X-PUBLISHED-TTL:PT1440M
BEGIN:VTIMEZONE
TZID:America/Anchorage
BEGIN:DAYLIGHT
DTSTART:20170312T020000Z
TZOFFSETFROM:-0900
TZOFFSETTO:-0800
END:DAYLIGHT
BEGIN:STANDARD
DTSTART:20171105T020000Z
TZOFFSETFROM:-0800
TZOFFSETTO:-0900
END:STANDARD
BEGIN:DAYLIGHT
DTSTART:20180311T020000Z
TZOFFSETFROM:-0900
TZOFFSETTO:-0800
END:DAYLIGHT
END:VTIMEZONE
BEGIN:VTIMEZONE
TZID:UTC
BEGIN:STANDARD
DTSTART:20250725T124012Z
TZOFFSETFROM:+0000
TZOFFSETTO:+0000
END:STANDARD
END:VTIMEZONE
BEGIN:VEVENT
UID:1309-152
DTSTAMP:20260421T124012Z
SUMMARY:The 34th annual Rotary Health Fair
LOCATION:Homer High School
ORGANIZER;CN=Tundra Technologies:MAILTO:tom@tundratech.net
DTSTART;TZID=America/Anchorage:20171028T073000
DTEND;TZID=America/Anchorage:20171028T130000
X-ALT-DESC;FMTTYPE=TEXT/HTML:<p>The Homer Kachemak Bay Rotary Club in partn
 ership with South Peninsula Hospital invites you to the annual Rotary Heal
 th Fair. The purpose of the fair is to promote individual wellness\, share
  health information and to encourage in healthy lifestyle choices. More th
 an 60 exhibitors offer education\, information and demonstrations related 
 to health and wellness.<br />\nLow cost blood draws will be available at t
 he fair\, and in advance from October 9-27 at the hospital. Check back at 
 a later date to set your appointment.</p>\n
CATEGORIES:Community Event
URL;VALUE=URI:https://www.sphosp.org/mc-events/the-34th-annual-rotary-healt
 h-fair/
METHOD:PUBLISH
END:VEVENT
END:VCALENDAR