BEGIN:VCALENDAR
VERSION:2.0
PRODID:spatie/icalendar-generator
DESCRIPTION:Events from South Peninsula Hospital
X-WR-CALDESC:Events from South Peninsula Hospital
REFRESH-INTERVAL;VALUE=DURATION:PT1440M
X-PUBLISHED-TTL:PT1440M
BEGIN:VTIMEZONE
TZID:America/Anchorage
BEGIN:DAYLIGHT
DTSTART:20170312T020000Z
TZOFFSETFROM:-0900
TZOFFSETTO:-0800
END:DAYLIGHT
BEGIN:STANDARD
DTSTART:20171105T020000Z
TZOFFSETFROM:-0800
TZOFFSETTO:-0900
END:STANDARD
BEGIN:DAYLIGHT
DTSTART:20180311T020000Z
TZOFFSETFROM:-0900
TZOFFSETTO:-0800
END:DAYLIGHT
END:VTIMEZONE
BEGIN:VTIMEZONE
TZID:UTC
BEGIN:STANDARD
DTSTART:20250727T131223Z
TZOFFSETFROM:+0000
TZOFFSETTO:+0000
END:STANDARD
END:VTIMEZONE
BEGIN:VEVENT
UID:1323-164
DTSTAMP:20260423T131223Z
SUMMARY:Walk With A Doc!
LOCATION:
ORGANIZER;CN=Tundra Technologies:MAILTO:tom@tundratech.net
DTSTART;TZID=America/Anchorage:20171104T090000
DTEND;TZID=America/Anchorage:20171104T100000
X-ALT-DESC;FMTTYPE=TEXT/HTML:November Walk with a Doc! Join Dr. Sarah Robe
 rts for a free indoor community walking event. Presented by South Penin
 sula Hospital Health &amp;amp\; Wellness at the SPARC building\, on the Ste
 rling Hwy next to Homer Middle School. Topic: Traveling Well - Staying he
 althy during your next adventure! Spend a few minutes learning about our m
 onthly topic\, and the rest of the hour walking&amp;hellip\;
CATEGORIES:Community Event
URL;VALUE=URI:https://www.sphosp.org/mc-events/walk-with-a-doc-2/
METHOD:PUBLISH
END:VEVENT
END:VCALENDAR