BEGIN:VCALENDAR
VERSION:2.0
PRODID:spatie/icalendar-generator
DESCRIPTION:Events from South Peninsula Hospital
X-WR-CALDESC:Events from South Peninsula Hospital
REFRESH-INTERVAL;VALUE=DURATION:PT1440M
X-PUBLISHED-TTL:PT1440M
BEGIN:VTIMEZONE
TZID:America/Anchorage
BEGIN:DAYLIGHT
DTSTART:20170312T020000Z
TZOFFSETFROM:-0900
TZOFFSETTO:-0800
END:DAYLIGHT
BEGIN:STANDARD
DTSTART:20171105T020000Z
TZOFFSETFROM:-0800
TZOFFSETTO:-0900
END:STANDARD
BEGIN:DAYLIGHT
DTSTART:20180311T020000Z
TZOFFSETFROM:-0900
TZOFFSETTO:-0800
END:DAYLIGHT
END:VTIMEZONE
BEGIN:VTIMEZONE
TZID:UTC
BEGIN:STANDARD
DTSTART:20250727T112801Z
TZOFFSETFROM:+0000
TZOFFSETTO:+0000
END:STANDARD
END:VTIMEZONE
BEGIN:VEVENT
UID:1324-165
DTSTAMP:20260423T112801Z
SUMMARY:Know Your Numbers! with Dr. Ross Tanner
LOCATION:Homer Public Library
ORGANIZER;CN=Tundra Technologies:MAILTO:tom@tundratech.net
DTSTART;TZID=America/Anchorage:20171108T183000
DTEND;TZID=America/Anchorage:20171108T203000
X-ALT-DESC;FMTTYPE=TEXT/HTML:Free Community Presentation by Dr. Ross Tanner
 \, Founder of the Diabetes &amp;amp\; Lipid Clinic of Alaska. Wednesday Evenin
 g November 8\, 2017 Homer Public Library 6:30pm - 8:30pm Dr. Ross Tanner w
 ill explain what the results of your Rotary Health Fair labs can tell you 
 about your health. Bring your results and questions! Presented by South&amp;he
 llip\;
CATEGORIES:Community Event
URL;VALUE=URI:https://www.sphosp.org/mc-events/know-your-numbers-with-dr-ro
 ss-tanner/
METHOD:PUBLISH
END:VEVENT
END:VCALENDAR