BEGIN:VCALENDAR
VERSION:2.0
PRODID:spatie/icalendar-generator
DESCRIPTION:Events from South Peninsula Hospital
X-WR-CALDESC:Events from South Peninsula Hospital
REFRESH-INTERVAL;VALUE=DURATION:PT1440M
X-PUBLISHED-TTL:PT1440M
BEGIN:VTIMEZONE
TZID:America/Anchorage
BEGIN:DAYLIGHT
DTSTART:20170312T020000Z
TZOFFSETFROM:-0900
TZOFFSETTO:-0800
END:DAYLIGHT
BEGIN:STANDARD
DTSTART:20171105T020000Z
TZOFFSETFROM:-0800
TZOFFSETTO:-0900
END:STANDARD
BEGIN:DAYLIGHT
DTSTART:20180311T020000Z
TZOFFSETFROM:-0900
TZOFFSETTO:-0800
END:DAYLIGHT
END:VTIMEZONE
BEGIN:VTIMEZONE
TZID:UTC
BEGIN:STANDARD
DTSTART:20250725T133137Z
TZOFFSETFROM:+0000
TZOFFSETTO:+0000
END:STANDARD
END:VTIMEZONE
BEGIN:VEVENT
UID:1327-167
DTSTAMP:20260421T133137Z
SUMMARY:South Peninsula Hospital CEO Retirement Party
LOCATION:
ORGANIZER;CN=Tundra Technologies:MAILTO:tom@tundratech.net
DTSTART;TZID=America/Anchorage:20171130T170000
DTEND;TZID=America/Anchorage:20171130T190000
X-ALT-DESC;FMTTYPE=TEXT/HTML:A retirement party will be held for Bob Letson
 \, CEO at South Peninsula Hospital on Thursday\, Nov. 30 from 5-7pm at AJ
 ’s Steakhouse on Bunnell Avenue in Homer.  The party is open to the pub
 lic and is a celebration of Bob’s decade of leadership and service to th
 e hospital and community. Letson is credited with&amp;hellip\;
CATEGORIES:Community Event
URL;VALUE=URI:https://www.sphosp.org/whats-new/calendar_of_events/?mc_id=13
 27&#038;vcal=1327
METHOD:PUBLISH
END:VEVENT
END:VCALENDAR