BEGIN:VCALENDAR
VERSION:2.0
PRODID:spatie/icalendar-generator
DESCRIPTION:Events from South Peninsula Hospital
X-WR-CALDESC:Events from South Peninsula Hospital
REFRESH-INTERVAL;VALUE=DURATION:PT1440M
X-PUBLISHED-TTL:PT1440M
BEGIN:VTIMEZONE
TZID:America/Anchorage
BEGIN:STANDARD
DTSTART:20171105T020000Z
TZOFFSETFROM:-0800
TZOFFSETTO:-0900
END:STANDARD
BEGIN:DAYLIGHT
DTSTART:20180311T020000Z
TZOFFSETFROM:-0900
TZOFFSETTO:-0800
END:DAYLIGHT
END:VTIMEZONE
BEGIN:VTIMEZONE
TZID:UTC
BEGIN:STANDARD
DTSTART:20250725T071145Z
TZOFFSETFROM:+0000
TZOFFSETTO:+0000
END:STANDARD
END:VTIMEZONE
BEGIN:VEVENT
UID:1329-169
DTSTAMP:20260421T071145Z
SUMMARY:Walk with a Doc with Dr. Christy Martinez
LOCATION:
ORGANIZER;CN=Tundra Technologies:MAILTO:tom@tundratech.net
DTSTART;TZID=America/Anchorage:20180120T090000
DTEND;TZID=America/Anchorage:20180120T100000
X-ALT-DESC;FMTTYPE=TEXT/HTML:Join South Peninsula Hospital and Dr. Christy 
 Martinez at SPARC (600 Sterling Hwy next to Homer Middle School) for our
  next \"Walk with a Doc\"! All are welcome Saturday\, January 20th from 9:
 00 am-10:00 am to hear a brief talk by Dr. Martinez on \"Simple Steps to L
 ower Cholesterol\" and spend the rest of the hour walking&amp;hellip\;
CATEGORIES:Community Event
URL;VALUE=URI:https://www.sphosp.org/mc-events/walk-with-a-doc-with-dr-chri
 sty-martinez/
METHOD:PUBLISH
END:VEVENT
END:VCALENDAR