BEGIN:VCALENDAR
VERSION:2.0
PRODID:spatie/icalendar-generator
DESCRIPTION:Events from South Peninsula Hospital
X-WR-CALDESC:Events from South Peninsula Hospital
REFRESH-INTERVAL;VALUE=DURATION:PT1440M
X-PUBLISHED-TTL:PT1440M
BEGIN:VTIMEZONE
TZID:America/Anchorage
BEGIN:STANDARD
DTSTART:20171105T020000Z
TZOFFSETFROM:-0800
TZOFFSETTO:-0900
END:STANDARD
BEGIN:DAYLIGHT
DTSTART:20180311T020000Z
TZOFFSETFROM:-0900
TZOFFSETTO:-0800
END:DAYLIGHT
END:VTIMEZONE
BEGIN:VTIMEZONE
TZID:UTC
BEGIN:STANDARD
DTSTART:20250726T100534Z
TZOFFSETFROM:+0000
TZOFFSETTO:+0000
END:STANDARD
END:VTIMEZONE
BEGIN:VEVENT
UID:1354-192
DTSTAMP:20260422T100534Z
SUMMARY:Walk with a Doc! with Dr. Greg Hough
LOCATION:
ORGANIZER;CN=Tundra Technologies:MAILTO:tom@tundratech.net
DTSTART;TZID=America/Anchorage:20180303T090000
DTEND;TZID=America/Anchorage:20180303T100000
X-ALT-DESC;FMTTYPE=TEXT/HTML:Join South Peninsula Hospital and Greg Hough\,
  MD at SPARC (600 Sterling Hwy next to Homer Middle School) for our nex
 t \"Walk with a Doc\"! All are welcome Saturday\, March 3rd from 9:00 am-1
 0:00 am to hear a brief talk by Dr. Hough on colon health and spend the re
 st of the hour walking at your own pace\,&amp;hellip\;
CATEGORIES:Community Event
URL;VALUE=URI:https://www.sphosp.org/mc-events/walk-with-a-doc-with-dr-greg
 -hough/
METHOD:PUBLISH
END:VEVENT
END:VCALENDAR