BEGIN:VCALENDAR
VERSION:2.0
PRODID:spatie/icalendar-generator
DESCRIPTION:Events from South Peninsula Hospital
X-WR-CALDESC:Events from South Peninsula Hospital
REFRESH-INTERVAL;VALUE=DURATION:PT1440M
X-PUBLISHED-TTL:PT1440M
BEGIN:VTIMEZONE
TZID:America/Anchorage
BEGIN:STANDARD
DTSTART:20171105T020000Z
TZOFFSETFROM:-0800
TZOFFSETTO:-0900
END:STANDARD
BEGIN:DAYLIGHT
DTSTART:20180311T020000Z
TZOFFSETFROM:-0900
TZOFFSETTO:-0800
END:DAYLIGHT
END:VTIMEZONE
BEGIN:VTIMEZONE
TZID:UTC
BEGIN:STANDARD
DTSTART:20250726T114944Z
TZOFFSETFROM:+0000
TZOFFSETTO:+0000
END:STANDARD
END:VTIMEZONE
BEGIN:VEVENT
UID:1374-200
DTSTAMP:20260422T114944Z
SUMMARY:Safe Sitter Class: One-Day Essentials with CPR
LOCATION:
ORGANIZER;CN=Tundra Technologies:MAILTO:tom@tundratech.net
DTSTART;TZID=America/Anchorage:20180316T090000
DTEND;TZID=America/Anchorage:20180316T160000
X-ALT-DESC;FMTTYPE=TEXT/HTML:South Peninsula Hospital's next Safe Sitter On
 e-Day Essentials with CPR is scheduled for Friday\, March 16th from 9:00am
  - 4:00pm.  Safe Sitter is designed to prepare students in grades 6-8 to 
 be safe when they're home alone\, watching younger siblings\, or babysitti
 ng. This instructor-led class is filled with fun games and role-playing ex
 ercises.  Students even&amp;hellip\;
CATEGORIES:Community Event
URL;VALUE=URI:https://www.sphosp.org/mc-events/safe-sitter-class-one-day-es
 sentials-with-cpr/
METHOD:PUBLISH
END:VEVENT
END:VCALENDAR