BEGIN:VCALENDAR
VERSION:2.0
PRODID:spatie/icalendar-generator
DESCRIPTION:Events from South Peninsula Hospital
X-WR-CALDESC:Events from South Peninsula Hospital
REFRESH-INTERVAL;VALUE=DURATION:PT1440M
X-PUBLISHED-TTL:PT1440M
BEGIN:VTIMEZONE
TZID:America/Anchorage
BEGIN:STANDARD
DTSTART:20171105T020000Z
TZOFFSETFROM:-0800
TZOFFSETTO:-0900
END:STANDARD
BEGIN:DAYLIGHT
DTSTART:20180311T020000Z
TZOFFSETFROM:-0900
TZOFFSETTO:-0800
END:DAYLIGHT
END:VTIMEZONE
BEGIN:VTIMEZONE
TZID:UTC
BEGIN:STANDARD
DTSTART:20250726T221455Z
TZOFFSETFROM:+0000
TZOFFSETTO:+0000
END:STANDARD
END:VTIMEZONE
BEGIN:VEVENT
UID:1391-213
DTSTAMP:20260422T221455Z
SUMMARY:SIGN UP for Homer Steps Up! 2018
LOCATION:
ORGANIZER;CN=Tundra Technologies:MAILTO:tom@tundratech.net
DTSTART;TZID=America/Anchorage:20180430T150000
DTEND;TZID=America/Anchorage:20180430T170000
X-ALT-DESC;FMTTYPE=TEXT/HTML:<p>Sign up for the upcoming community walking 
 challenge Homer Steps Up! 2018 at WKFL Park on the corner of Heath St. and
  Pioneer Ave. from 3:00 PM – 5:00 PM on Monday\, April 30th!</p>\n
CATEGORIES:Community Event
URL;VALUE=URI:https://www.sphosp.org/mc-events/sign-up-for-homer-steps-up-2
 018/
METHOD:PUBLISH
END:VEVENT
END:VCALENDAR