BEGIN:VCALENDAR
VERSION:2.0
PRODID:spatie/icalendar-generator
DESCRIPTION:Events from South Peninsula Hospital
X-WR-CALDESC:Events from South Peninsula Hospital
REFRESH-INTERVAL;VALUE=DURATION:PT1440M
X-PUBLISHED-TTL:PT1440M
BEGIN:VTIMEZONE
TZID:America/Anchorage
BEGIN:STANDARD
DTSTART:20171105T020000Z
TZOFFSETFROM:-0800
TZOFFSETTO:-0900
END:STANDARD
BEGIN:DAYLIGHT
DTSTART:20180311T020000Z
TZOFFSETFROM:-0900
TZOFFSETTO:-0800
END:DAYLIGHT
BEGIN:STANDARD
DTSTART:20181104T020000Z
TZOFFSETFROM:-0800
TZOFFSETTO:-0900
END:STANDARD
END:VTIMEZONE
BEGIN:VTIMEZONE
TZID:UTC
BEGIN:STANDARD
DTSTART:20250727T085242Z
TZOFFSETFROM:+0000
TZOFFSETTO:+0000
END:STANDARD
END:VTIMEZONE
BEGIN:VEVENT
UID:1394-216
DTSTAMP:20260423T085242Z
SUMMARY:Homer Steps Up 2018 END OF CHALLENGE PARTY!
LOCATION:
ORGANIZER;CN=Tundra Technologies:MAILTO:tom@tundratech.net
DTSTART;TZID=America/Anchorage:20180602T133000
DTEND;TZID=America/Anchorage:20180602T143000
X-ALT-DESC;FMTTYPE=TEXT/HTML:Join us at the Homer Farmers Market on Saturda
 y\, June 2nd from 1:30 - 2:30 PM for the End of Challenge Party for the Ho
 mer Steps Up 2018 Community Walking Challenge! We will announce the winner
 s of all the difference prizes\, have enter-to-win raffles\, and the winni
 ng team will take home the trophy! Challenge Details&amp;hellip\;
CATEGORIES:Community Event
URL;VALUE=URI:https://www.sphosp.org/mc-events/homer-steps-up-2018-end-of-c
 hallenge-party/
METHOD:PUBLISH
END:VEVENT
END:VCALENDAR