BEGIN:VCALENDAR
VERSION:2.0
PRODID:spatie/icalendar-generator
DESCRIPTION:Events from South Peninsula Hospital
X-WR-CALDESC:Events from South Peninsula Hospital
REFRESH-INTERVAL;VALUE=DURATION:PT1440M
X-PUBLISHED-TTL:PT1440M
BEGIN:VTIMEZONE
TZID:America/Anchorage
BEGIN:STANDARD
DTSTART:20171105T020000Z
TZOFFSETFROM:-0800
TZOFFSETTO:-0900
END:STANDARD
BEGIN:DAYLIGHT
DTSTART:20180311T020000Z
TZOFFSETFROM:-0900
TZOFFSETTO:-0800
END:DAYLIGHT
BEGIN:STANDARD
DTSTART:20181104T020000Z
TZOFFSETFROM:-0800
TZOFFSETTO:-0900
END:STANDARD
END:VTIMEZONE
BEGIN:VTIMEZONE
TZID:UTC
BEGIN:STANDARD
DTSTART:20250727T133811Z
TZOFFSETFROM:+0000
TZOFFSETTO:+0000
END:STANDARD
END:VTIMEZONE
BEGIN:VEVENT
UID:1395-217
DTSTAMP:20260423T133811Z
SUMMARY:Safe Sitter Essentials + CPR (TWO HALF-DAYS)
LOCATION:
ORGANIZER;CN=Tundra Technologies:MAILTO:tom@tundratech.net
DTSTART;TZID=America/Anchorage:20180628T090000
DTEND;TZID=America/Anchorage:20180628T123000
X-ALT-DESC;FMTTYPE=TEXT/HTML:The next Safe Sitter course is scheduled for J
 une 28th &amp;amp\; 29th at South Peninsula Hospital in Homer\, from 9:00 am -
  12:30 pm on both days. Students must attend both days to complete the pro
 gram. The program free is $50. Please contact (907) 235-0970 or wellness@s
 phosp.org to register! Designed to prepare students in grades&amp;hellip\;
CATEGORIES:Community Event
URL;VALUE=URI:https://www.sphosp.org/mc-events/safe-sitter-essentials-cpr-t
 wo-half-days/
METHOD:PUBLISH
END:VEVENT
END:VCALENDAR