BEGIN:VCALENDAR
VERSION:2.0
PRODID:spatie/icalendar-generator
DESCRIPTION:Events from South Peninsula Hospital
X-WR-CALDESC:Events from South Peninsula Hospital
REFRESH-INTERVAL;VALUE=DURATION:PT1440M
X-PUBLISHED-TTL:PT1440M
BEGIN:VTIMEZONE
TZID:America/Anchorage
BEGIN:STANDARD
DTSTART:20171105T020000Z
TZOFFSETFROM:-0800
TZOFFSETTO:-0900
END:STANDARD
BEGIN:DAYLIGHT
DTSTART:20180311T020000Z
TZOFFSETFROM:-0900
TZOFFSETTO:-0800
END:DAYLIGHT
BEGIN:STANDARD
DTSTART:20181104T020000Z
TZOFFSETFROM:-0800
TZOFFSETTO:-0900
END:STANDARD
END:VTIMEZONE
BEGIN:VTIMEZONE
TZID:UTC
BEGIN:STANDARD
DTSTART:20250727T214145Z
TZOFFSETFROM:+0000
TZOFFSETTO:+0000
END:STANDARD
END:VTIMEZONE
BEGIN:VEVENT
UID:1399-221
DTSTAMP:20260423T214145Z
SUMMARY:Free Sports Physicals for High School Students at Homer Medical Cen
 ter
LOCATION:
ORGANIZER;CN=Tundra Technologies:MAILTO:tom@tundratech.net
DTSTART;TZID=America/Anchorage:20180721T100000
DTEND;TZID=America/Anchorage:20180721T160000
X-ALT-DESC;FMTTYPE=TEXT/HTML:<p>Homer Medical Center is offering free sport
 s physicals at a one-day clinic on Saturday\, July 21\, 2018 for high s
 chool students who need a physical for participation in school sanctioned 
 activities.  Appointments are not required\, and exams are offered from 
 10am-4pm at the Homer Medical Center clinic on Bartlett Street.  Exams a
 re offered free of charge by providers from Homer Medical Center.</p>\n
CATEGORIES:Community Event
URL;VALUE=URI:https://www.sphosp.org/mc-events/free-sports-physicals-for-hi
 gh-school-students-at-homer-medical-center/
METHOD:PUBLISH
END:VEVENT
END:VCALENDAR