BEGIN:VCALENDAR
VERSION:2.0
PRODID:spatie/icalendar-generator
DESCRIPTION:Events from South Peninsula Hospital
X-WR-CALDESC:Events from South Peninsula Hospital
REFRESH-INTERVAL;VALUE=DURATION:PT1440M
X-PUBLISHED-TTL:PT1440M
BEGIN:VTIMEZONE
TZID:America/Anchorage
BEGIN:DAYLIGHT
DTSTART:20180311T020000Z
TZOFFSETFROM:-0900
TZOFFSETTO:-0800
END:DAYLIGHT
BEGIN:STANDARD
DTSTART:20181104T020000Z
TZOFFSETFROM:-0800
TZOFFSETTO:-0900
END:STANDARD
BEGIN:DAYLIGHT
DTSTART:20190310T020000Z
TZOFFSETFROM:-0900
TZOFFSETTO:-0800
END:DAYLIGHT
END:VTIMEZONE
BEGIN:VTIMEZONE
TZID:UTC
BEGIN:STANDARD
DTSTART:20250727T230409Z
TZOFFSETFROM:+0000
TZOFFSETTO:+0000
END:STANDARD
END:VTIMEZONE
BEGIN:VEVENT
UID:1400-222
DTSTAMP:20260423T230409Z
SUMMARY:35th Annual Rotary Health Fair 7:30 AM - 1:00 PM
LOCATION:
ORGANIZER;CN=Tundra Technologies:MAILTO:tom@tundratech.net
DTSTART;TZID=America/Anchorage:20181103T073000
DTEND;TZID=America/Anchorage:20181103T130000
X-ALT-DESC;FMTTYPE=TEXT/HTML:<p>The 35th annual Rotary Health Fair is set f
 or Saturday\, November 3rd\, 2018 from 7:30am-1:00pm at the Homer High Sch
 ool\, 600 E Fairview Avenue\, sponsored by Homer Kachemak Bay Rotary Club 
 in cooperation with South Peninsula Hospital.</p>\n
CATEGORIES:Community Event
URL;VALUE=URI:https://www.sphosp.org/mc-events/35th-annual-rotary-health-fa
 ir-730-am-100-pm/
METHOD:PUBLISH
END:VEVENT
END:VCALENDAR