BEGIN:VCALENDAR
VERSION:2.0
PRODID:spatie/icalendar-generator
DESCRIPTION:Events from South Peninsula Hospital
X-WR-CALDESC:Events from South Peninsula Hospital
REFRESH-INTERVAL;VALUE=DURATION:PT1440M
X-PUBLISHED-TTL:PT1440M
BEGIN:VTIMEZONE
TZID:America/Anchorage
BEGIN:DAYLIGHT
DTSTART:20180311T020000Z
TZOFFSETFROM:-0900
TZOFFSETTO:-0800
END:DAYLIGHT
BEGIN:STANDARD
DTSTART:20181104T020000Z
TZOFFSETFROM:-0800
TZOFFSETTO:-0900
END:STANDARD
BEGIN:DAYLIGHT
DTSTART:20190310T020000Z
TZOFFSETFROM:-0900
TZOFFSETTO:-0800
END:DAYLIGHT
END:VTIMEZONE
BEGIN:VTIMEZONE
TZID:UTC
BEGIN:STANDARD
DTSTART:20250728T004052Z
TZOFFSETFROM:+0000
TZOFFSETTO:+0000
END:STANDARD
END:VTIMEZONE
BEGIN:VEVENT
UID:1401-223
DTSTAMP:20260424T004052Z
SUMMARY:2018 Rotary Health Fair Exhibitor Application Deadline
LOCATION:
ORGANIZER;CN=Tundra Technologies:MAILTO:tom@tundratech.net
DTSTART;TZID=America/Anchorage;VALUE=DATE:20180914
DTEND;TZID=America/Anchorage;VALUE=DATE:20180915
X-ALT-DESC;FMTTYPE=TEXT/HTML:<p>The Homer Kachemak Bay Rotary Club in partn
 ership with South Peninsula Hospital invites exhibitors to apply for booth
  space at the 35th annual Rotary Health Fair. The purpose of the fair is t
 o promote individual wellness\, share health information and to educate an
 d encourage in healthy lifestyle choices. The Rotary Health Fair invites e
 xhibitors to provide learning centers to educate and encourage active invo
 lvement in learning about health and wellness.</p>\n
CATEGORIES:Community Event
URL;VALUE=URI:https://www.sphosp.org/mc-events/2018-rotary-health-fair-exhi
 bitor-application-deadline/
METHOD:PUBLISH
END:VEVENT
END:VCALENDAR