BEGIN:VCALENDAR
VERSION:2.0
PRODID:spatie/icalendar-generator
DESCRIPTION:Events from South Peninsula Hospital
X-WR-CALDESC:Events from South Peninsula Hospital
REFRESH-INTERVAL;VALUE=DURATION:PT1440M
X-PUBLISHED-TTL:PT1440M
BEGIN:VTIMEZONE
TZID:America/Anchorage
BEGIN:DAYLIGHT
DTSTART:20180311T020000Z
TZOFFSETFROM:-0900
TZOFFSETTO:-0800
END:DAYLIGHT
BEGIN:STANDARD
DTSTART:20181104T020000Z
TZOFFSETFROM:-0800
TZOFFSETTO:-0900
END:STANDARD
BEGIN:DAYLIGHT
DTSTART:20190310T020000Z
TZOFFSETFROM:-0900
TZOFFSETTO:-0800
END:DAYLIGHT
END:VTIMEZONE
BEGIN:VTIMEZONE
TZID:UTC
BEGIN:STANDARD
DTSTART:20250728T050738Z
TZOFFSETFROM:+0000
TZOFFSETTO:+0000
END:STANDARD
END:VTIMEZONE
BEGIN:VEVENT
UID:1404-226
DTSTAMP:20260424T050738Z
SUMMARY:Incontinence Supplies Giveaway with Hospice of Homer
LOCATION:
ORGANIZER;CN=Tundra Technologies:MAILTO:tom@tundratech.net
DTSTART;TZID=America/Anchorage:20180911T090000
DTEND;TZID=America/Anchorage:20180911T130000
X-ALT-DESC;FMTTYPE=TEXT/HTML:<p>South Peninsula Hospital and Hospice of Hom
 er are partnering to sponsor a community giveaway event of incontinence su
 pplies which have been donated to the two organizations.  The event is Tue
 sday\, September 11 from 9am-1pm in the SPH Training Center\, at 203 West 
 Pioneer Avenue.</p>\n
CATEGORIES:Community Event
URL;VALUE=URI:https://www.sphosp.org/mc-events/incontinence-supplies-giveaw
 ay-with-hospice-of-homer/
METHOD:PUBLISH
END:VEVENT
END:VCALENDAR