BEGIN:VCALENDAR
VERSION:2.0
PRODID:spatie/icalendar-generator
DESCRIPTION:Events from South Peninsula Hospital
X-WR-CALDESC:Events from South Peninsula Hospital
REFRESH-INTERVAL;VALUE=DURATION:PT1440M
X-PUBLISHED-TTL:PT1440M
BEGIN:VTIMEZONE
TZID:America/Anchorage
BEGIN:DAYLIGHT
DTSTART:20180311T020000Z
TZOFFSETFROM:-0900
TZOFFSETTO:-0800
END:DAYLIGHT
BEGIN:STANDARD
DTSTART:20181104T020000Z
TZOFFSETFROM:-0800
TZOFFSETTO:-0900
END:STANDARD
BEGIN:DAYLIGHT
DTSTART:20190310T020000Z
TZOFFSETFROM:-0900
TZOFFSETTO:-0800
END:DAYLIGHT
END:VTIMEZONE
BEGIN:VTIMEZONE
TZID:UTC
BEGIN:STANDARD
DTSTART:20250728T064932Z
TZOFFSETFROM:+0000
TZOFFSETTO:+0000
END:STANDARD
END:VTIMEZONE
BEGIN:VEVENT
UID:1405-227
DTSTAMP:20260424T064932Z
SUMMARY:Safe Sitter One-Day Essentials with CPR for  Students Grades 6-8
LOCATION:
ORGANIZER;CN=Tundra Technologies:MAILTO:tom@tundratech.net
DTSTART;TZID=America/Anchorage:20181019T090000
DTEND;TZID=America/Anchorage:20181019T163000
X-ALT-DESC;FMTTYPE=TEXT/HTML:South Peninsula Hospital's next Safe Sitter On
 e-Day Essentials with CPR is scheduled for Friday\, October 19th from 9:0
 0am - 4:30pm.  Safe Sitter is designed to prepare students in grades 6-8
  to be safe when they're home alone\, watching younger siblings\, or baby
 sitting. This instructor-led class is filled with fun games and role-playi
 ng exercises.  Students even get to use&amp;hellip\;
CATEGORIES:Community Event
URL;VALUE=URI:https://www.sphosp.org/mc-events/safe-sitter-one-day-essentia
 ls-with-cpr-for-students-grades-6-8/
METHOD:PUBLISH
END:VEVENT
END:VCALENDAR