BEGIN:VCALENDAR
VERSION:2.0
PRODID:spatie/icalendar-generator
DESCRIPTION:Events from South Peninsula Hospital
X-WR-CALDESC:Events from South Peninsula Hospital
REFRESH-INTERVAL;VALUE=DURATION:PT1440M
X-PUBLISHED-TTL:PT1440M
BEGIN:VTIMEZONE
TZID:America/Anchorage
BEGIN:DAYLIGHT
DTSTART:20180311T020000Z
TZOFFSETFROM:-0900
TZOFFSETTO:-0800
END:DAYLIGHT
BEGIN:STANDARD
DTSTART:20181104T020000Z
TZOFFSETFROM:-0800
TZOFFSETTO:-0900
END:STANDARD
BEGIN:DAYLIGHT
DTSTART:20190310T020000Z
TZOFFSETFROM:-0900
TZOFFSETTO:-0800
END:DAYLIGHT
END:VTIMEZONE
BEGIN:VTIMEZONE
TZID:UTC
BEGIN:STANDARD
DTSTART:20250728T133642Z
TZOFFSETFROM:+0000
TZOFFSETTO:+0000
END:STANDARD
END:VTIMEZONE
BEGIN:VEVENT
UID:1411-232
DTSTAMP:20260424T133642Z
SUMMARY:Walk with a Doc! with Minda Morris\, PT\, DPT - What is pelvic heal
 th physical therapy and what can it do for YOU?
LOCATION:
ORGANIZER;CN=Tundra Technologies:MAILTO:tom@tundratech.net
DTSTART;TZID=America/Anchorage:20181006T090000
DTEND;TZID=America/Anchorage:20181006T100000
X-ALT-DESC;FMTTYPE=TEXT/HTML:<p>Join South Peninsula Hospital and South Pen
 insula Hospital Physical Therapist Minda Morris\, PT\, DPT at SPARC (600 S
 terling Hwy next to Homer Middle School) for our next “Walk with a Doc
 ”! All are welcome Saturday\, October 6th from 9:00 am-10:00 am for Mind
 a's brief talk on pelvic health physical therapy and spend the rest of the
  hour walking at your own pace\, chatting &amp;amp\; asking any questions. Thi
 s is a free event\, open to all ages and abilities! There is parking up at
  the SPARC and down below in the Homer Middle School Parking lot. Find out
  more on Facebook or our page on the Walk with a Doc National website!</p>
 \n
CATEGORIES:Community Event
URL;VALUE=URI:https://www.sphosp.org/mc-events/walk-with-a-doc-with-minda-m
 orris-pt-dpt-what-is-pelvic-health-physical-therapy-and-what-can-it-do-for
 -you/
METHOD:PUBLISH
END:VEVENT
END:VCALENDAR