BEGIN:VCALENDAR
VERSION:2.0
PRODID:spatie/icalendar-generator
DESCRIPTION:Events from South Peninsula Hospital
X-WR-CALDESC:Events from South Peninsula Hospital
REFRESH-INTERVAL;VALUE=DURATION:PT1440M
X-PUBLISHED-TTL:PT1440M
BEGIN:VTIMEZONE
TZID:America/Anchorage
BEGIN:DAYLIGHT
DTSTART:20180311T020000Z
TZOFFSETFROM:-0900
TZOFFSETTO:-0800
END:DAYLIGHT
BEGIN:STANDARD
DTSTART:20181104T020000Z
TZOFFSETFROM:-0800
TZOFFSETTO:-0900
END:STANDARD
BEGIN:DAYLIGHT
DTSTART:20190310T020000Z
TZOFFSETFROM:-0900
TZOFFSETTO:-0800
END:DAYLIGHT
END:VTIMEZONE
BEGIN:VTIMEZONE
TZID:UTC
BEGIN:STANDARD
DTSTART:20250728T152233Z
TZOFFSETFROM:+0000
TZOFFSETTO:+0000
END:STANDARD
END:VTIMEZONE
BEGIN:VEVENT
UID:1412-233
DTSTAMP:20260424T152233Z
SUMMARY:Walk with a Doc Homer's ONE YEAR ANNIVERSARY! with Rob Downey\, MD\
 , IFMCP on Insulin Resistance -
LOCATION:
ORGANIZER;CN=Tundra Technologies:MAILTO:tom@tundratech.net
DTSTART;TZID=America/Anchorage:20181020T090000
DTEND;TZID=America/Anchorage:20181020T100000
X-ALT-DESC;FMTTYPE=TEXT/HTML:Help us celebrate ONE YEAR as a Walk with a Do
 c chapter - thanks to you\, walkers!!! Join South Peninsula Hospital and R
 ob Downey\, MD\, IFMCP at SPARC (600 Sterling Hwy next to Homer Middle S
 chool) for our next “Walk with a Doc”! All are welcome Saturday\, Octo
 ber 20th from 9:00 am-10:00 am for Dr. Downey's brief&amp;hellip\;
CATEGORIES:Community Event
URL;VALUE=URI:https://www.sphosp.org/mc-events/walk-with-a-doc-homers-one-y
 ear-anniversary-with-rob-downey-md-ifmcp-on-insulin-resistance/
METHOD:PUBLISH
END:VEVENT
END:VCALENDAR