BEGIN:VCALENDAR
VERSION:2.0
PRODID:spatie/icalendar-generator
DESCRIPTION:Events from South Peninsula Hospital
X-WR-CALDESC:Events from South Peninsula Hospital
REFRESH-INTERVAL;VALUE=DURATION:PT1440M
X-PUBLISHED-TTL:PT1440M
BEGIN:VTIMEZONE
TZID:America/Anchorage
BEGIN:DAYLIGHT
DTSTART:20180311T020000Z
TZOFFSETFROM:-0900
TZOFFSETTO:-0800
END:DAYLIGHT
BEGIN:STANDARD
DTSTART:20181104T020000Z
TZOFFSETFROM:-0800
TZOFFSETTO:-0900
END:STANDARD
BEGIN:DAYLIGHT
DTSTART:20190310T020000Z
TZOFFSETFROM:-0900
TZOFFSETTO:-0800
END:DAYLIGHT
END:VTIMEZONE
BEGIN:VTIMEZONE
TZID:UTC
BEGIN:STANDARD
DTSTART:20250728T183538Z
TZOFFSETFROM:+0000
TZOFFSETTO:+0000
END:STANDARD
END:VTIMEZONE
BEGIN:VEVENT
UID:1413-234
DTSTAMP:20260424T183538Z
SUMMARY:Rehab Team Open House!
LOCATION:
ORGANIZER;CN=Tundra Technologies:MAILTO:tom@tundratech.net
DTSTART;TZID=America/Anchorage:20181010T163000
DTEND;TZID=America/Anchorage:20181010T183000
X-ALT-DESC;FMTTYPE=TEXT/HTML:<p>Meet our 18-member team of highly trained\,
  experienced and licensed therapists and support staff offering Physical T
 herapy\, Occupational Therapy\, Speech &amp;amp\; Language Pathology and Pedia
 tric Therapy!</p>\n<p>Free voice screenings\, balance &amp;amp\; grip strength
  assessments\, and FREE ICE CLEATS while supplies last!</p>\n<p>The open h
 ouse is at the South Peninsula Hospital Rehabilitation Department at 4300 
 Bartlett Street. Call us at (907) 235-0370 for more information.</p>\n
CATEGORIES:Community Event
URL;VALUE=URI:https://www.sphosp.org/mc-events/rehab-team-open-house/
METHOD:PUBLISH
END:VEVENT
END:VCALENDAR