BEGIN:VCALENDAR
VERSION:2.0
PRODID:spatie/icalendar-generator
DESCRIPTION:Events from South Peninsula Hospital
X-WR-CALDESC:Events from South Peninsula Hospital
REFRESH-INTERVAL;VALUE=DURATION:PT1440M
X-PUBLISHED-TTL:PT1440M
BEGIN:VTIMEZONE
TZID:America/Anchorage
BEGIN:DAYLIGHT
DTSTART:20180311T020000Z
TZOFFSETFROM:-0900
TZOFFSETTO:-0800
END:DAYLIGHT
BEGIN:STANDARD
DTSTART:20181104T020000Z
TZOFFSETFROM:-0800
TZOFFSETTO:-0900
END:STANDARD
BEGIN:DAYLIGHT
DTSTART:20190310T020000Z
TZOFFSETFROM:-0900
TZOFFSETTO:-0800
END:DAYLIGHT
END:VTIMEZONE
BEGIN:VTIMEZONE
TZID:UTC
BEGIN:STANDARD
DTSTART:20250728T202837Z
TZOFFSETFROM:+0000
TZOFFSETTO:+0000
END:STANDARD
END:VTIMEZONE
BEGIN:VEVENT
UID:1416-237
DTSTAMP:20260424T202837Z
SUMMARY:No Walk with a Doc - See You at the Rotary Health Fair!
LOCATION:
ORGANIZER;CN=Tundra Technologies:MAILTO:tom@tundratech.net
DTSTART;TZID=America/Anchorage:20181103T090000
DTEND;TZID=America/Anchorage:20181103T100000
X-ALT-DESC;FMTTYPE=TEXT/HTML:Since everyone will be there\, including healt
 h care providers who can discuss your lab results with you (make appointme
 nts online right here\, and pick up your results at the fair to go over th
 em with providers right then!) we will be there too! Walk through Nolan th
 e Colon\, and get the rest of your Saturday&amp;hellip\;
CATEGORIES:Community Event
URL;VALUE=URI:https://www.sphosp.org/mc-events/no-walk-with-a-doc-see-you-a
 t-the-rotary-health-fair/
METHOD:PUBLISH
END:VEVENT
END:VCALENDAR