BEGIN:VCALENDAR
VERSION:2.0
PRODID:spatie/icalendar-generator
DESCRIPTION:Events from South Peninsula Hospital
X-WR-CALDESC:Events from South Peninsula Hospital
REFRESH-INTERVAL;VALUE=DURATION:PT1440M
X-PUBLISHED-TTL:PT1440M
BEGIN:VTIMEZONE
TZID:America/Anchorage
BEGIN:DAYLIGHT
DTSTART:20180311T020000Z
TZOFFSETFROM:-0900
TZOFFSETTO:-0800
END:DAYLIGHT
BEGIN:STANDARD
DTSTART:20181104T020000Z
TZOFFSETFROM:-0800
TZOFFSETTO:-0900
END:STANDARD
BEGIN:DAYLIGHT
DTSTART:20190310T020000Z
TZOFFSETFROM:-0900
TZOFFSETTO:-0800
END:DAYLIGHT
END:VTIMEZONE
BEGIN:VTIMEZONE
TZID:UTC
BEGIN:STANDARD
DTSTART:20250728T233451Z
TZOFFSETFROM:+0000
TZOFFSETTO:+0000
END:STANDARD
END:VTIMEZONE
BEGIN:VEVENT
UID:1417-238
DTSTAMP:20260424T233451Z
SUMMARY:DEA National Prescription Medication Take-Back Event at the SPH Tra
 ining Center!
LOCATION:
ORGANIZER;CN=Tundra Technologies:MAILTO:tom@tundratech.net
DTSTART;TZID=America/Anchorage:20181027T100000
DTEND;TZID=America/Anchorage:20181027T140000
X-ALT-DESC;FMTTYPE=TEXT/HTML:Saturday\, October 27th from 10:00 AM - 2:00 P
 M is a National Prescription Drug Takeback Event sponsored by Change 4 th
 e Kenai and South Peninsula Hospital at the South Peninsula Hospital Tr
 aining Center in cooperation with the Homer Police Department! Bring your 
 unused or expired prescription medicines to the SPH Training Center at 203
  W Pioneer Avenue anytime between&amp;hellip\;
CATEGORIES:Community Event
URL;VALUE=URI:https://www.sphosp.org/mc-events/dea-national-prescription-me
 dication-take-back-event-at-the-sph-training-center/
METHOD:PUBLISH
END:VEVENT
END:VCALENDAR