BEGIN:VCALENDAR
VERSION:2.0
PRODID:spatie/icalendar-generator
DESCRIPTION:Events from South Peninsula Hospital
X-WR-CALDESC:Events from South Peninsula Hospital
REFRESH-INTERVAL;VALUE=DURATION:PT1440M
X-PUBLISHED-TTL:PT1440M
BEGIN:VTIMEZONE
TZID:America/Anchorage
BEGIN:DAYLIGHT
DTSTART:20180311T020000Z
TZOFFSETFROM:-0900
TZOFFSETTO:-0800
END:DAYLIGHT
BEGIN:STANDARD
DTSTART:20181104T020000Z
TZOFFSETFROM:-0800
TZOFFSETTO:-0900
END:STANDARD
BEGIN:DAYLIGHT
DTSTART:20190310T020000Z
TZOFFSETFROM:-0900
TZOFFSETTO:-0800
END:DAYLIGHT
END:VTIMEZONE
BEGIN:VTIMEZONE
TZID:UTC
BEGIN:STANDARD
DTSTART:20250729T015550Z
TZOFFSETFROM:+0000
TZOFFSETTO:+0000
END:STANDARD
END:VTIMEZONE
BEGIN:VEVENT
UID:1419-240
DTSTAMP:20260425T015550Z
SUMMARY:Trick or Treat Fun House at the SPH Pediatric Therapy Gym!
LOCATION:
ORGANIZER;CN=Tundra Technologies:MAILTO:tom@tundratech.net
DTSTART;TZID=America/Anchorage:20181031T140000
DTEND;TZID=America/Anchorage:20181031T170000
X-ALT-DESC;FMTTYPE=TEXT/HTML:<p>Join us for a healthy dose of Halloween Fun
 ! Families with children under 7 are invited to come enjoy tricks\, treats
  and games at the hospital's Pediatric Therapy Gym on Wednesday\, October 
 31st from 2 - 5 PM (all are welcome to Trick or Treat afterwards with the 
 residents in Long Term Care from 4 PM - 8 PM as well!).</p>\n
CATEGORIES:Community Event
URL;VALUE=URI:https://www.sphosp.org/mc-events/trick-or-treat-fun-house-at-
 the-sph-pediatric-therapy-gym/
METHOD:PUBLISH
END:VEVENT
END:VCALENDAR