BEGIN:VCALENDAR
VERSION:2.0
PRODID:spatie/icalendar-generator
DESCRIPTION:Events from South Peninsula Hospital
X-WR-CALDESC:Events from South Peninsula Hospital
REFRESH-INTERVAL;VALUE=DURATION:PT1440M
X-PUBLISHED-TTL:PT1440M
BEGIN:VTIMEZONE
TZID:America/Anchorage
BEGIN:STANDARD
DTSTART:20181104T020000Z
TZOFFSETFROM:-0800
TZOFFSETTO:-0900
END:STANDARD
BEGIN:DAYLIGHT
DTSTART:20190310T020000Z
TZOFFSETFROM:-0900
TZOFFSETTO:-0800
END:DAYLIGHT
END:VTIMEZONE
BEGIN:VTIMEZONE
TZID:UTC
BEGIN:STANDARD
DTSTART:20250729T140303Z
TZOFFSETFROM:+0000
TZOFFSETTO:+0000
END:STANDARD
END:VTIMEZONE
BEGIN:VEVENT
UID:1432-247
DTSTAMP:20260425T140303Z
SUMMARY:FREE FLU SHOTS - Walk-In Clinic at the Homer High School - ONE DAY 
 ONLY!
LOCATION:
ORGANIZER;CN=Tundra Technologies:MAILTO:tom@tundratech.net
DTSTART;TZID=America/Anchorage:20181208T090000
DTEND;TZID=America/Anchorage:20181208T120000
X-ALT-DESC;FMTTYPE=TEXT/HTML:<p>Free flu shots will be available on a walk-
 in basis from 9:00 AM - 12:00 PM on Saturday\, December 8th at the Homer H
 igh School as part of a community-wide emergency preparedness exercise coo
 rdinated by the Alaska Section of Public Health Nursing in cooperation wit
 h numerous local emergency preparedness partners.</p>\n
CATEGORIES:Community Event
URL;VALUE=URI:https://www.sphosp.org/mc-events/free-flu-shots-walk-in-clini
 c-at-the-homer-high-school-one-day-only/
METHOD:PUBLISH
END:VEVENT
END:VCALENDAR