BEGIN:VCALENDAR
VERSION:2.0
PRODID:spatie/icalendar-generator
DESCRIPTION:Events from South Peninsula Hospital
X-WR-CALDESC:Events from South Peninsula Hospital
REFRESH-INTERVAL;VALUE=DURATION:PT1440M
X-PUBLISHED-TTL:PT1440M
BEGIN:VTIMEZONE
TZID:America/Anchorage
BEGIN:STANDARD
DTSTART:20221106T020000Z
TZOFFSETFROM:-0800
TZOFFSETTO:-0900
END:STANDARD
BEGIN:DAYLIGHT
DTSTART:20230312T020000Z
TZOFFSETFROM:-0900
TZOFFSETTO:-0800
END:DAYLIGHT
END:VTIMEZONE
BEGIN:VTIMEZONE
TZID:UTC
BEGIN:STANDARD
DTSTART:20250725T161103Z
TZOFFSETFROM:+0000
TZOFFSETTO:+0000
END:STANDARD
END:VTIMEZONE
BEGIN:VEVENT
UID:2156-458
DTSTAMP:20260421T161103Z
SUMMARY:Your Body Within: Numbers that Matter (free community presentation 
 from Sunrise Medical Weight Loss)
LOCATION:Kachemak Bay Campus - Room 202
ORGANIZER;CN=Tundra Technologies:MAILTO:tom@tundratech.net
DTSTART;TZID=America/Anchorage:20230323T170000
DTEND;TZID=America/Anchorage:20230323T200000
X-ALT-DESC;FMTTYPE=TEXT/HTML:<p>Join South Peninsula Hospital and Sunrise M
 edical Weight Loss for a free\, interactive community presentation on the 
 technical and scientific aspects of weight loss\, with medical weight loss
  specialist Carrie Warren\, FNP-C.</p>\n
CATEGORIES:Community Event
URL;VALUE=URI:https://www.sphosp.org/mc-events/your-body-within-numbers-tha
 t-matter-free-community-presentation-from-sunrise-medical-weight-loss/
METHOD:PUBLISH
END:VEVENT
END:VCALENDAR