BEGIN:VCALENDAR
VERSION:2.0
PRODID:spatie/icalendar-generator
DESCRIPTION:Events from South Peninsula Hospital
X-WR-CALDESC:Events from South Peninsula Hospital
REFRESH-INTERVAL;VALUE=DURATION:PT1440M
X-PUBLISHED-TTL:PT1440M
BEGIN:VTIMEZONE
TZID:America/Anchorage
BEGIN:STANDARD
DTSTART:20221106T020000Z
TZOFFSETFROM:-0800
TZOFFSETTO:-0900
END:STANDARD
BEGIN:DAYLIGHT
DTSTART:20230312T020000Z
TZOFFSETFROM:-0900
TZOFFSETTO:-0800
END:DAYLIGHT
END:VTIMEZONE
BEGIN:VTIMEZONE
TZID:UTC
BEGIN:STANDARD
DTSTART:20250725T194443Z
TZOFFSETFROM:+0000
TZOFFSETTO:+0000
END:STANDARD
END:VTIMEZONE
BEGIN:VEVENT
UID:2158-460
DTSTAMP:20260421T194443Z
SUMMARY:Homer Steps Up! 2023 Begins!
LOCATION:
ORGANIZER;CN=Tundra Technologies:MAILTO:tom@tundratech.net
DTSTART;TZID=America/Anchorage;VALUE=DATE:20230501
DTEND;TZID=America/Anchorage;VALUE=DATE:20230502
X-ALT-DESC;FMTTYPE=TEXT/HTML:<p>Homer Steps Up is a FREE community walking 
 challenge that anyone can participate in\, because it's all online at home
 rstepsup.com!</p>\n<p>The SEVENTH annual Homer Steps Up will be from May -
  May 28\, 2023.</p>\n<p>Anyone can participate in this fun\, healthy chall
 enge by logging their steps using a wearable fitness tracker\, smartphone\
 , or even entering them manually! Registration and more info will be at ho
 merstepsup.com. Challenge Details (and stay tuned for more info on Faceboo
 k and our website).</p>\n
CATEGORIES:Community Event
URL;VALUE=URI:https://www.sphosp.org/mc-events/homer-steps-up-2023-begins/
METHOD:PUBLISH
END:VEVENT
END:VCALENDAR