BEGIN:VCALENDAR
VERSION:2.0
PRODID:spatie/icalendar-generator
DESCRIPTION:Events from South Peninsula Hospital
X-WR-CALDESC:Events from South Peninsula Hospital
REFRESH-INTERVAL;VALUE=DURATION:PT1440M
X-PUBLISHED-TTL:PT1440M
BEGIN:VTIMEZONE
TZID:America/Anchorage
BEGIN:STANDARD
DTSTART:20221106T020000Z
TZOFFSETFROM:-0800
TZOFFSETTO:-0900
END:STANDARD
BEGIN:DAYLIGHT
DTSTART:20230312T020000Z
TZOFFSETFROM:-0900
TZOFFSETTO:-0800
END:DAYLIGHT
END:VTIMEZONE
BEGIN:VTIMEZONE
TZID:UTC
BEGIN:STANDARD
DTSTART:20250726T021238Z
TZOFFSETFROM:+0000
TZOFFSETTO:+0000
END:STANDARD
END:VTIMEZONE
BEGIN:VEVENT
UID:2165-464
DTSTAMP:20260422T021238Z
SUMMARY:Walk This Way - Walking Tips &amp;amp\; Tricks with Emilie Otis\, PTA (
 followed by an hour of free community yoga!)
LOCATION:SPARC (South Peninsula Athletic &amp;amp\; Recreation Center) 600 Ster
 ling Hwy  Homer AK 99603
ORGANIZER;CN=Tundra Technologies:MAILTO:tom@tundratech.net
DTSTART;TZID=America/Anchorage:20230503T171500
DTEND;TZID=America/Anchorage:20230503T190000
X-ALT-DESC;FMTTYPE=TEXT/HTML:<p>Help us kick off the 7th Annual Free Commun
 ity Walking Challenge Homer Steps Up! 2023 by learning about establishing 
 and maintaining a safe &amp;amp\; healthy walking structure\, tips on injury p
 revention\, and proper warm-up &amp;amp\; stretching techniques.</p>\n
CATEGORIES:Community Event
URL;VALUE=URI:https://www.sphosp.org/mc-events/walk-this-way-walking-tips-t
 ricks-with-emilie-otis-pta-followed-by-an-hour-of-free-community-yoga/
METHOD:PUBLISH
END:VEVENT
END:VCALENDAR