BEGIN:VCALENDAR
VERSION:2.0
PRODID:spatie/icalendar-generator
DESCRIPTION:Events from South Peninsula Hospital
X-WR-CALDESC:Events from South Peninsula Hospital
REFRESH-INTERVAL;VALUE=DURATION:PT1440M
X-PUBLISHED-TTL:PT1440M
BEGIN:VTIMEZONE
TZID:America/Anchorage
BEGIN:STANDARD
DTSTART:20221106T020000Z
TZOFFSETFROM:-0800
TZOFFSETTO:-0900
END:STANDARD
BEGIN:DAYLIGHT
DTSTART:20230312T020000Z
TZOFFSETFROM:-0900
TZOFFSETTO:-0800
END:DAYLIGHT
BEGIN:STANDARD
DTSTART:20231105T020000Z
TZOFFSETFROM:-0800
TZOFFSETTO:-0900
END:STANDARD
END:VTIMEZONE
BEGIN:VTIMEZONE
TZID:UTC
BEGIN:STANDARD
DTSTART:20250726T054557Z
TZOFFSETFROM:+0000
TZOFFSETTO:+0000
END:STANDARD
END:VTIMEZONE
BEGIN:VEVENT
UID:2167-466
DTSTAMP:20260422T054557Z
SUMMARY:Homer Steps Up! 2023 End-of-Challenge Party and Awards
LOCATION:Karen Hornaday Park 475 W Fairview Ave  Homer AK 99603
ORGANIZER;CN=Tundra Technologies:MAILTO:tom@tundratech.net
DTSTART;TZID=America/Anchorage:20230531T170000
DTEND;TZID=America/Anchorage:20230531T180000
X-ALT-DESC;FMTTYPE=TEXT/HTML:<p>Join Homer Steps Up! for the 2023 End-of-Ch
 allenge Party and awards at the Karen Hornaday Park Pavilion on Wednesday\
 , May 31 from 5-6PM!</p>\n
CATEGORIES:Community Event
URL;VALUE=URI:https://www.sphosp.org/mc-events/homer-steps-up-2023-end-of-c
 hallenge-party-and-awards/
METHOD:PUBLISH
END:VEVENT
END:VCALENDAR