BEGIN:VCALENDAR
VERSION:2.0
PRODID:spatie/icalendar-generator
DESCRIPTION:Events from South Peninsula Hospital
X-WR-CALDESC:Events from South Peninsula Hospital
REFRESH-INTERVAL;VALUE=DURATION:PT1440M
X-PUBLISHED-TTL:PT1440M
BEGIN:VTIMEZONE
TZID:America/Anchorage
BEGIN:STANDARD
DTSTART:20231105T020000Z
TZOFFSETFROM:-0800
TZOFFSETTO:-0900
END:STANDARD
BEGIN:DAYLIGHT
DTSTART:20240310T020000Z
TZOFFSETFROM:-0900
TZOFFSETTO:-0800
END:DAYLIGHT
END:VTIMEZONE
BEGIN:VTIMEZONE
TZID:UTC
BEGIN:STANDARD
DTSTART:20250726T091647Z
TZOFFSETFROM:+0000
TZOFFSETTO:+0000
END:STANDARD
END:VTIMEZONE
BEGIN:VEVENT
UID:2172-468
DTSTAMP:20260422T091647Z
SUMMARY:Down with Downey - Live at 5!
LOCATION:
ORGANIZER;CN=Tundra Technologies:MAILTO:tom@tundratech.net
RRULE:FREQ=MONTHLY;BYDAY=2TH;UNTIL=20231215T000000Z
DTSTART;TZID=America/Anchorage:20231214T170000
DTEND;TZID=America/Anchorage:20231214T190000
X-ALT-DESC;FMTTYPE=TEXT/HTML:Join South Peninsula Hospital and Seaworthy Fu
 nctional Medicine Clinic for \"Down with Downey: Live at 5\,\" - a health\
 , wellness\, and functional medicine lecture series! MD and IFM-certified 
 Dr. Rob Downey will lead an engaging presentation covering diverse topics\
 , from thyroid issues and gut health to long Covid and fatigue. Every seco
 nd Thursday of the&amp;hellip\;
CATEGORIES:Community Event
URL;VALUE=URI:https://www.sphosp.org/mc-events/down-with-downey-live-at-5/?
 mc_id=2172
METHOD:PUBLISH
END:VEVENT
END:VCALENDAR