BEGIN:VCALENDAR
VERSION:2.0
PRODID:spatie/icalendar-generator
DESCRIPTION:Events from South Peninsula Hospital
X-WR-CALDESC:Events from South Peninsula Hospital
REFRESH-INTERVAL;VALUE=DURATION:PT1440M
X-PUBLISHED-TTL:PT1440M
BEGIN:VTIMEZONE
TZID:America/Anchorage
BEGIN:DAYLIGHT
DTSTART:20240310T020000Z
TZOFFSETFROM:-0900
TZOFFSETTO:-0800
END:DAYLIGHT
BEGIN:STANDARD
DTSTART:20241103T020000Z
TZOFFSETFROM:-0800
TZOFFSETTO:-0900
END:STANDARD
BEGIN:DAYLIGHT
DTSTART:20250309T020000Z
TZOFFSETFROM:-0900
TZOFFSETTO:-0800
END:DAYLIGHT
END:VTIMEZONE
BEGIN:VTIMEZONE
TZID:UTC
BEGIN:STANDARD
DTSTART:20250726T045434Z
TZOFFSETFROM:+0000
TZOFFSETTO:+0000
END:STANDARD
END:VTIMEZONE
BEGIN:VEVENT
UID:2319-529
DTSTAMP:20260422T045434Z
SUMMARY:Women’s Book Club: The New Menopause by Mary Clare Haver
LOCATION:
ORGANIZER;CN=Kammi Matson:MAILTO:kmatson@sphosp.org
RRULE:FREQ=WEEKLY;UNTIL=20241107T000000Z
DTSTART;TZID=America/Anchorage:20241031T173000
DTEND;TZID=America/Anchorage:20241031T183000
X-ALT-DESC;FMTTYPE=TEXT/HTML:Join Certified Nurse Midwife Julie McCarron\, 
 MSCP\, and OB/GYN Dr. Renda Knapp as they guide us through a free four-wee
 k book club covering “The New Menopause by Mary Clare Haver\, MD”.  M
 enopause is inevitable\, but suffering through it is not! Learn about the
  empowering approach to self-advocacy that pioneering women’s health ad
 vocate Dr. Mary Claire Haver takes&amp;hellip\;
CATEGORIES:Community Event
URL;VALUE=URI:https://www.sphosp.org/mc-events/womens-book-club-the-new-men
 opause-by-mary-clare-haver/?mc_id=2319
METHOD:PUBLISH
END:VEVENT
END:VCALENDAR