BEGIN:VCALENDAR
VERSION:2.0
PRODID:spatie/icalendar-generator
DESCRIPTION:Events from South Peninsula Hospital
X-WR-CALDESC:Events from South Peninsula Hospital
REFRESH-INTERVAL;VALUE=DURATION:PT1440M
X-PUBLISHED-TTL:PT1440M
BEGIN:VTIMEZONE
TZID:America/Anchorage
BEGIN:DAYLIGHT
DTSTART:20240310T020000Z
TZOFFSETFROM:-0900
TZOFFSETTO:-0800
END:DAYLIGHT
BEGIN:STANDARD
DTSTART:20241103T020000Z
TZOFFSETFROM:-0800
TZOFFSETTO:-0900
END:STANDARD
BEGIN:DAYLIGHT
DTSTART:20250309T020000Z
TZOFFSETFROM:-0900
TZOFFSETTO:-0800
END:DAYLIGHT
END:VTIMEZONE
BEGIN:VTIMEZONE
TZID:UTC
BEGIN:STANDARD
DTSTART:20250726T025408Z
TZOFFSETFROM:+0000
TZOFFSETTO:+0000
END:STANDARD
END:VTIMEZONE
BEGIN:VEVENT
UID:2320-530
DTSTAMP:20260422T025408Z
SUMMARY:Wellness Wednesday: Women's Health with the Midwives of West Wing
LOCATION:Kachemak Bay Campus - Room 202
ORGANIZER;CN=Kammi Matson:MAILTO:kmatson@sphosp.org
DTSTART;TZID=America/Anchorage:20241016T173000
DTEND;TZID=America/Anchorage:20241016T183000
X-ALT-DESC;FMTTYPE=TEXT/HTML:Meet the incredibly caring and capable ladies 
 of South Peninsula Hospitals West Wing Clinic\, where all are welcome to j
 oin in for a nourishing evening to discuss women’s health! Topics of dis
 cussion will include breast health\, disease prevention\, screening opport
 unities\, and local resources available.
CATEGORIES:Community Event
URL;VALUE=URI:https://www.sphosp.org/mc-events/wellness-wednesday-womens-he
 alth-with-the-midwives-of-west-wing/
METHOD:PUBLISH
END:VEVENT
END:VCALENDAR