BEGIN:VCALENDAR
VERSION:2.0
PRODID:spatie/icalendar-generator
DESCRIPTION:Events from South Peninsula Hospital
X-WR-CALDESC:Events from South Peninsula Hospital
REFRESH-INTERVAL;VALUE=DURATION:PT1440M
X-PUBLISHED-TTL:PT1440M
BEGIN:VTIMEZONE
TZID:America/Anchorage
BEGIN:DAYLIGHT
DTSTART:20240310T020000Z
TZOFFSETFROM:-0900
TZOFFSETTO:-0800
END:DAYLIGHT
BEGIN:STANDARD
DTSTART:20241103T020000Z
TZOFFSETFROM:-0800
TZOFFSETTO:-0900
END:STANDARD
BEGIN:DAYLIGHT
DTSTART:20250309T020000Z
TZOFFSETFROM:-0900
TZOFFSETTO:-0800
END:DAYLIGHT
END:VTIMEZONE
BEGIN:VTIMEZONE
TZID:UTC
BEGIN:STANDARD
DTSTART:20250726T023432Z
TZOFFSETFROM:+0000
TZOFFSETTO:+0000
END:STANDARD
END:VTIMEZONE
BEGIN:VEVENT
UID:2321-531
DTSTAMP:20260422T023432Z
SUMMARY:41st Annual Rotary Health Fair
LOCATION:Christian Community Church 3838 Bartlett Street  Homer Alaska 9960
 3
ORGANIZER;CN=Kammi Matson:MAILTO:kmatson@sphosp.org
DTSTART;TZID=America/Anchorage:20241102T090000
DTEND;TZID=America/Anchorage:20241102T130000
X-ALT-DESC;FMTTYPE=TEXT/HTML:Free Health Fair in Homer on Saturday Nov. 2 T
 he 41st annual Rotary Health Fair is Saturday\, November 2 from 9:00am-
 1:00pm in a new location\, the Christian Community Church on Bartlett Str
 eet in Homer. “It’s Your Life … Take a Day to be Well” is the them
 e of the fair\, sponsored by Homer Kachemak Bay Rotary Club in cooperation
 &amp;hellip\;
CATEGORIES:Community Event
URL;VALUE=URI:https://www.sphosp.org/mc-events/41st-annual-rotary-health-fa
 ir/
METHOD:PUBLISH
END:VEVENT
END:VCALENDAR