BEGIN:VCALENDAR
VERSION:2.0
PRODID:spatie/icalendar-generator
DESCRIPTION:Events from South Peninsula Hospital
X-WR-CALDESC:Events from South Peninsula Hospital
REFRESH-INTERVAL;VALUE=DURATION:PT1440M
X-PUBLISHED-TTL:PT1440M
BEGIN:VTIMEZONE
TZID:America/Anchorage
BEGIN:STANDARD
DTSTART:20241103T020000Z
TZOFFSETFROM:-0800
TZOFFSETTO:-0900
END:STANDARD
BEGIN:DAYLIGHT
DTSTART:20250309T020000Z
TZOFFSETFROM:-0900
TZOFFSETTO:-0800
END:DAYLIGHT
END:VTIMEZONE
BEGIN:VTIMEZONE
TZID:UTC
BEGIN:STANDARD
DTSTART:20250725T105221Z
TZOFFSETFROM:+0000
TZOFFSETTO:+0000
END:STANDARD
END:VTIMEZONE
BEGIN:VEVENT
UID:2331-539
DTSTAMP:20260421T105221Z
SUMMARY:Gift Shop Open House
LOCATION:South Peninsula Hospital Gift Shop
ORGANIZER;CN=Derotha Ferraro:MAILTO:dbf@sphosp.org
DTSTART;TZID=America/Anchorage:20241211T110000
DTEND;TZID=America/Anchorage:20241211T140000
X-ALT-DESC;FMTTYPE=TEXT/HTML:The SPH gift shop will be holding a holiday op
 en house on Tuesday &amp;amp\; Wednesday\, December 10th &amp;amp\; 11th from 11am
 -2pm. Guests can enjoy refreshments &amp;amp\; door prizes while seeing the ne
 w inventory just added for Christmas. Shoppers will find handmade blankets
  &amp;amp\; booties\, toys and games\, toiletries\, gifts\, plants and more. T
 he SPH gift&amp;hellip\;
CATEGORIES:Community Event
URL;VALUE=URI:https://www.sphosp.org/mc-events/gift-shop-open-house/
METHOD:PUBLISH
END:VEVENT
END:VCALENDAR