BEGIN:VCALENDAR
VERSION:2.0
PRODID:spatie/icalendar-generator
DESCRIPTION:Events from South Peninsula Hospital
X-WR-CALDESC:Events from South Peninsula Hospital
REFRESH-INTERVAL;VALUE=DURATION:PT1440M
X-PUBLISHED-TTL:PT1440M
BEGIN:VTIMEZONE
TZID:America/Anchorage
BEGIN:STANDARD
DTSTART:20241103T020000Z
TZOFFSETFROM:-0800
TZOFFSETTO:-0900
END:STANDARD
BEGIN:DAYLIGHT
DTSTART:20250309T020000Z
TZOFFSETFROM:-0900
TZOFFSETTO:-0800
END:DAYLIGHT
BEGIN:STANDARD
DTSTART:20251102T020000Z
TZOFFSETFROM:-0800
TZOFFSETTO:-0900
END:STANDARD
END:VTIMEZONE
BEGIN:VTIMEZONE
TZID:UTC
BEGIN:STANDARD
DTSTART:20250725T121913Z
TZOFFSETFROM:+0000
TZOFFSETTO:+0000
END:STANDARD
END:VTIMEZONE
BEGIN:VEVENT
UID:2415-540
DTSTAMP:20260421T121913Z
SUMMARY:SPARC Open Walks
LOCATION:
ORGANIZER;CN=Kammi Matson:MAILTO:kmatson@sphosp.org
RRULE:FREQ=WEEKLY;UNTIL=20250531T000000Z
DTSTART;TZID=America/Anchorage:20250519T114500
DTEND;TZID=America/Anchorage:20250519T124500
X-ALT-DESC;FMTTYPE=TEXT/HTML:https://www.sphosp.org/homepage/sparc-open-wal
 ks/
CATEGORIES:Community Event
URL;VALUE=URI:https://www.sphosp.org/mc-events/sparc-open-walks/?mc_id=2415
METHOD:PUBLISH
END:VEVENT
END:VCALENDAR