BEGIN:VCALENDAR
VERSION:2.0
PRODID:spatie/icalendar-generator
DESCRIPTION:Events from South Peninsula Hospital
X-WR-CALDESC:Events from South Peninsula Hospital
REFRESH-INTERVAL;VALUE=DURATION:PT1440M
X-PUBLISHED-TTL:PT1440M
BEGIN:VTIMEZONE
TZID:America/Anchorage
BEGIN:STANDARD
DTSTART:20241103T020000Z
TZOFFSETFROM:-0800
TZOFFSETTO:-0900
END:STANDARD
BEGIN:DAYLIGHT
DTSTART:20250309T020000Z
TZOFFSETFROM:-0900
TZOFFSETTO:-0800
END:DAYLIGHT
END:VTIMEZONE
BEGIN:VTIMEZONE
TZID:UTC
BEGIN:STANDARD
DTSTART:20250723T150107Z
TZOFFSETFROM:+0000
TZOFFSETTO:+0000
END:STANDARD
END:VTIMEZONE
BEGIN:VEVENT
UID:2502-551
DTSTAMP:20260419T150107Z
SUMMARY:Wellness Wedesnesdays
LOCATION:Kachemak Bay Campus - Room 202
ORGANIZER;CN=Kammi Matson:MAILTO:kmatson@sphosp.org
DTSTART;TZID=America/Anchorage:20250423T173000
DTEND;TZID=America/Anchorage:20250423T193000
X-ALT-DESC;FMTTYPE=TEXT/HTML:<p>Join Dr. Rob Downey of Seaworthy Functional
  Medicine as he shares about accessible options for genetic testing around
  mental health using the Genomind test. Many patients with anxiety and dep
 ression have exceptionally good outcomes via use of this test\, which is o
 ften covered by insurance. Dr. Downey is a family practice MD and IFM Cert
 ified Practitioner and finds functional medicine endlessly fascinating for
  its ability to transform patient’s lives and promote radiant vitality. 
 Come learn how the intersection between conventional and functional medici
 ne can lead to practical everyday tools for success!</p>\n
CATEGORIES:Community Event
URL;VALUE=URI:https://www.sphosp.org/mc-events/wellness-wedesnesdays-5/
METHOD:PUBLISH
END:VEVENT
END:VCALENDAR