BEGIN:VCALENDAR
VERSION:2.0
PRODID:spatie/icalendar-generator
DESCRIPTION:Events from South Peninsula Hospital
X-WR-CALDESC:Events from South Peninsula Hospital
REFRESH-INTERVAL;VALUE=DURATION:PT1440M
X-PUBLISHED-TTL:PT1440M
BEGIN:VTIMEZONE
TZID:America/Anchorage
BEGIN:STANDARD
DTSTART:20241103T020000Z
TZOFFSETFROM:-0800
TZOFFSETTO:-0900
END:STANDARD
BEGIN:DAYLIGHT
DTSTART:20250309T020000Z
TZOFFSETFROM:-0900
TZOFFSETTO:-0800
END:DAYLIGHT
END:VTIMEZONE
BEGIN:VTIMEZONE
TZID:UTC
BEGIN:STANDARD
DTSTART:20250725T091903Z
TZOFFSETFROM:+0000
TZOFFSETTO:+0000
END:STANDARD
END:VTIMEZONE
BEGIN:VEVENT
UID:2504-552
DTSTAMP:20260421T091903Z
SUMMARY:Kachemak Bay Recovery Connection Fireside Chat
LOCATION:Homer Public Library
ORGANIZER;CN=Robin:MAILTO:robin.mk77@gmail.com
DTSTART;TZID=America/Anchorage:20250408T180000
DTEND;TZID=America/Anchorage:20250408T190000
X-ALT-DESC;FMTTYPE=TEXT/HTML:<p>A discussion about recovery from substance 
 use disorders and community engagement</p>\n
CATEGORIES:Community Event
URL;VALUE=URI:https://www.sphosp.org/mc-events/kachemak-bay-recovery-connec
 tion-fireside-chat/
METHOD:PUBLISH
END:VEVENT
END:VCALENDAR